BEGIN:VCALENDAR
VERSION:2.0
PRODID:-//The Adelphi Hotel - ECPv6.15.20//NONSGML v1.0//EN
CALSCALE:GREGORIAN
METHOD:PUBLISH
X-WR-CALNAME:The Adelphi Hotel
X-ORIGINAL-URL:https://theadelphihotel.com
X-WR-CALDESC:Events for The Adelphi Hotel
REFRESH-INTERVAL;VALUE=DURATION:PT1H
X-Robots-Tag:noindex
X-PUBLISHED-TTL:PT1H
BEGIN:VTIMEZONE
TZID:America/New_York
BEGIN:DAYLIGHT
TZOFFSETFROM:-0500
TZOFFSETTO:-0400
TZNAME:EDT
DTSTART:20250309T070000
END:DAYLIGHT
BEGIN:STANDARD
TZOFFSETFROM:-0400
TZOFFSETTO:-0500
TZNAME:EST
DTSTART:20251102T060000
END:STANDARD
BEGIN:DAYLIGHT
TZOFFSETFROM:-0500
TZOFFSETTO:-0400
TZNAME:EDT
DTSTART:20260308T070000
END:DAYLIGHT
BEGIN:STANDARD
TZOFFSETFROM:-0400
TZOFFSETTO:-0500
TZNAME:EST
DTSTART:20261101T060000
END:STANDARD
BEGIN:DAYLIGHT
TZOFFSETFROM:-0500
TZOFFSETTO:-0400
TZNAME:EDT
DTSTART:20270314T070000
END:DAYLIGHT
BEGIN:STANDARD
TZOFFSETFROM:-0400
TZOFFSETTO:-0500
TZNAME:EST
DTSTART:20271107T060000
END:STANDARD
END:VTIMEZONE
BEGIN:VEVENT
DTSTART;TZID=America/New_York:20260427T110000
DTEND;TZID=America/New_York:20260427T220000
DTSTAMP:20260425T072108
CREATED:20250902T172930Z
LAST-MODIFIED:20260225T152401Z
UID:10004281-1777287600-1777327200@theadelphihotel.com
SUMMARY:Morrissey's Pizza & Pints
DESCRIPTION:Every Monday\, Morrissey’s Lounge & Bistro serves up the perfect pairing! Enjoy your choice of pizza and a draft beer for just $25 per person (tax and gratuity not included).  \n\n\n\nAvailable from 11am to 10pm\, it’s an all-day invitation to unwind\, share a bite\, and raise a glass. \n\n\n\nCall (518) 350-7945 for reservations\, or reserve online!
URL:https://theadelphihotel.com/event/pizza-pints/2026-04-27/
LOCATION:Morrissey’s Lounge & Bistro\, 365 Broadway\, Saratoga Springs\, New York\, 12866\, United States
CATEGORIES:Events At Morrissey's
ATTACH;FMTTYPE=image/jpeg:https://theadelphihotel.com/wp-content/uploads/2025/09/244422773_946241219573541_4335458993056883143_n.jpg
END:VEVENT
BEGIN:VEVENT
DTSTART;TZID=America/New_York:20260504T110000
DTEND;TZID=America/New_York:20260504T220000
DTSTAMP:20260425T072108
CREATED:20250902T172930Z
LAST-MODIFIED:20260225T152401Z
UID:10004282-1777892400-1777932000@theadelphihotel.com
SUMMARY:Morrissey's Pizza & Pints
DESCRIPTION:Every Monday\, Morrissey’s Lounge & Bistro serves up the perfect pairing! Enjoy your choice of pizza and a draft beer for just $25 per person (tax and gratuity not included).  \n\n\n\nAvailable from 11am to 10pm\, it’s an all-day invitation to unwind\, share a bite\, and raise a glass. \n\n\n\nCall (518) 350-7945 for reservations\, or reserve online!
URL:https://theadelphihotel.com/event/pizza-pints/2026-05-04/
LOCATION:Morrissey’s Lounge & Bistro\, 365 Broadway\, Saratoga Springs\, New York\, 12866\, United States
CATEGORIES:Events At Morrissey's
ATTACH;FMTTYPE=image/jpeg:https://theadelphihotel.com/wp-content/uploads/2025/09/244422773_946241219573541_4335458993056883143_n.jpg
END:VEVENT
BEGIN:VEVENT
DTSTART;TZID=America/New_York:20260511T110000
DTEND;TZID=America/New_York:20260511T220000
DTSTAMP:20260425T072108
CREATED:20250902T172930Z
LAST-MODIFIED:20260225T152401Z
UID:10004283-1778497200-1778536800@theadelphihotel.com
SUMMARY:Morrissey's Pizza & Pints
DESCRIPTION:Every Monday\, Morrissey’s Lounge & Bistro serves up the perfect pairing! Enjoy your choice of pizza and a draft beer for just $25 per person (tax and gratuity not included).  \n\n\n\nAvailable from 11am to 10pm\, it’s an all-day invitation to unwind\, share a bite\, and raise a glass. \n\n\n\nCall (518) 350-7945 for reservations\, or reserve online!
URL:https://theadelphihotel.com/event/pizza-pints/2026-05-11/
LOCATION:Morrissey’s Lounge & Bistro\, 365 Broadway\, Saratoga Springs\, New York\, 12866\, United States
CATEGORIES:Events At Morrissey's
ATTACH;FMTTYPE=image/jpeg:https://theadelphihotel.com/wp-content/uploads/2025/09/244422773_946241219573541_4335458993056883143_n.jpg
END:VEVENT
BEGIN:VEVENT
DTSTART;TZID=America/New_York:20260518T110000
DTEND;TZID=America/New_York:20260518T220000
DTSTAMP:20260425T072108
CREATED:20250902T172930Z
LAST-MODIFIED:20260225T152401Z
UID:10004284-1779102000-1779141600@theadelphihotel.com
SUMMARY:Morrissey's Pizza & Pints
DESCRIPTION:Every Monday\, Morrissey’s Lounge & Bistro serves up the perfect pairing! Enjoy your choice of pizza and a draft beer for just $25 per person (tax and gratuity not included).  \n\n\n\nAvailable from 11am to 10pm\, it’s an all-day invitation to unwind\, share a bite\, and raise a glass. \n\n\n\nCall (518) 350-7945 for reservations\, or reserve online!
URL:https://theadelphihotel.com/event/pizza-pints/2026-05-18/
LOCATION:Morrissey’s Lounge & Bistro\, 365 Broadway\, Saratoga Springs\, New York\, 12866\, United States
CATEGORIES:Events At Morrissey's
ATTACH;FMTTYPE=image/jpeg:https://theadelphihotel.com/wp-content/uploads/2025/09/244422773_946241219573541_4335458993056883143_n.jpg
END:VEVENT
BEGIN:VEVENT
DTSTART;TZID=America/New_York:20260525T110000
DTEND;TZID=America/New_York:20260525T220000
DTSTAMP:20260425T072108
CREATED:20250902T172930Z
LAST-MODIFIED:20260225T152401Z
UID:10004285-1779706800-1779746400@theadelphihotel.com
SUMMARY:Morrissey's Pizza & Pints
DESCRIPTION:Every Monday\, Morrissey’s Lounge & Bistro serves up the perfect pairing! Enjoy your choice of pizza and a draft beer for just $25 per person (tax and gratuity not included).  \n\n\n\nAvailable from 11am to 10pm\, it’s an all-day invitation to unwind\, share a bite\, and raise a glass. \n\n\n\nCall (518) 350-7945 for reservations\, or reserve online!
URL:https://theadelphihotel.com/event/pizza-pints/2026-05-25/
LOCATION:Morrissey’s Lounge & Bistro\, 365 Broadway\, Saratoga Springs\, New York\, 12866\, United States
CATEGORIES:Events At Morrissey's
ATTACH;FMTTYPE=image/jpeg:https://theadelphihotel.com/wp-content/uploads/2025/09/244422773_946241219573541_4335458993056883143_n.jpg
END:VEVENT
BEGIN:VEVENT
DTSTART;TZID=America/New_York:20260601T110000
DTEND;TZID=America/New_York:20260601T220000
DTSTAMP:20260425T072108
CREATED:20250902T172930Z
LAST-MODIFIED:20260225T152401Z
UID:10004286-1780311600-1780351200@theadelphihotel.com
SUMMARY:Morrissey's Pizza & Pints
DESCRIPTION:Every Monday\, Morrissey’s Lounge & Bistro serves up the perfect pairing! Enjoy your choice of pizza and a draft beer for just $25 per person (tax and gratuity not included).  \n\n\n\nAvailable from 11am to 10pm\, it’s an all-day invitation to unwind\, share a bite\, and raise a glass. \n\n\n\nCall (518) 350-7945 for reservations\, or reserve online!
URL:https://theadelphihotel.com/event/pizza-pints/2026-06-01/
LOCATION:Morrissey’s Lounge & Bistro\, 365 Broadway\, Saratoga Springs\, New York\, 12866\, United States
CATEGORIES:Events At Morrissey's
ATTACH;FMTTYPE=image/jpeg:https://theadelphihotel.com/wp-content/uploads/2025/09/244422773_946241219573541_4335458993056883143_n.jpg
END:VEVENT
BEGIN:VEVENT
DTSTART;TZID=America/New_York:20260608T110000
DTEND;TZID=America/New_York:20260608T220000
DTSTAMP:20260425T072108
CREATED:20250902T172930Z
LAST-MODIFIED:20260225T152401Z
UID:10004287-1780916400-1780956000@theadelphihotel.com
SUMMARY:Morrissey's Pizza & Pints
DESCRIPTION:Every Monday\, Morrissey’s Lounge & Bistro serves up the perfect pairing! Enjoy your choice of pizza and a draft beer for just $25 per person (tax and gratuity not included).  \n\n\n\nAvailable from 11am to 10pm\, it’s an all-day invitation to unwind\, share a bite\, and raise a glass. \n\n\n\nCall (518) 350-7945 for reservations\, or reserve online!
URL:https://theadelphihotel.com/event/pizza-pints/2026-06-08/
LOCATION:Morrissey’s Lounge & Bistro\, 365 Broadway\, Saratoga Springs\, New York\, 12866\, United States
CATEGORIES:Events At Morrissey's
ATTACH;FMTTYPE=image/jpeg:https://theadelphihotel.com/wp-content/uploads/2025/09/244422773_946241219573541_4335458993056883143_n.jpg
END:VEVENT
BEGIN:VEVENT
DTSTART;TZID=America/New_York:20260615T110000
DTEND;TZID=America/New_York:20260615T220000
DTSTAMP:20260425T072108
CREATED:20250902T172930Z
LAST-MODIFIED:20260225T152401Z
UID:10004288-1781521200-1781560800@theadelphihotel.com
SUMMARY:Morrissey's Pizza & Pints
DESCRIPTION:Every Monday\, Morrissey’s Lounge & Bistro serves up the perfect pairing! Enjoy your choice of pizza and a draft beer for just $25 per person (tax and gratuity not included).  \n\n\n\nAvailable from 11am to 10pm\, it’s an all-day invitation to unwind\, share a bite\, and raise a glass. \n\n\n\nCall (518) 350-7945 for reservations\, or reserve online!
URL:https://theadelphihotel.com/event/pizza-pints/2026-06-15/
LOCATION:Morrissey’s Lounge & Bistro\, 365 Broadway\, Saratoga Springs\, New York\, 12866\, United States
CATEGORIES:Events At Morrissey's
ATTACH;FMTTYPE=image/jpeg:https://theadelphihotel.com/wp-content/uploads/2025/09/244422773_946241219573541_4335458993056883143_n.jpg
END:VEVENT
BEGIN:VEVENT
DTSTART;TZID=America/New_York:20260622T110000
DTEND;TZID=America/New_York:20260622T220000
DTSTAMP:20260425T072108
CREATED:20250902T172930Z
LAST-MODIFIED:20260225T152401Z
UID:10004289-1782126000-1782165600@theadelphihotel.com
SUMMARY:Morrissey's Pizza & Pints
DESCRIPTION:Every Monday\, Morrissey’s Lounge & Bistro serves up the perfect pairing! Enjoy your choice of pizza and a draft beer for just $25 per person (tax and gratuity not included).  \n\n\n\nAvailable from 11am to 10pm\, it’s an all-day invitation to unwind\, share a bite\, and raise a glass. \n\n\n\nCall (518) 350-7945 for reservations\, or reserve online!
URL:https://theadelphihotel.com/event/pizza-pints/2026-06-22/
LOCATION:Morrissey’s Lounge & Bistro\, 365 Broadway\, Saratoga Springs\, New York\, 12866\, United States
CATEGORIES:Events At Morrissey's
ATTACH;FMTTYPE=image/jpeg:https://theadelphihotel.com/wp-content/uploads/2025/09/244422773_946241219573541_4335458993056883143_n.jpg
END:VEVENT
BEGIN:VEVENT
DTSTART;TZID=America/New_York:20260629T110000
DTEND;TZID=America/New_York:20260629T220000
DTSTAMP:20260425T072108
CREATED:20250902T172930Z
LAST-MODIFIED:20260225T152401Z
UID:10004290-1782730800-1782770400@theadelphihotel.com
SUMMARY:Morrissey's Pizza & Pints
DESCRIPTION:Every Monday\, Morrissey’s Lounge & Bistro serves up the perfect pairing! Enjoy your choice of pizza and a draft beer for just $25 per person (tax and gratuity not included).  \n\n\n\nAvailable from 11am to 10pm\, it’s an all-day invitation to unwind\, share a bite\, and raise a glass. \n\n\n\nCall (518) 350-7945 for reservations\, or reserve online!
URL:https://theadelphihotel.com/event/pizza-pints/2026-06-29/
LOCATION:Morrissey’s Lounge & Bistro\, 365 Broadway\, Saratoga Springs\, New York\, 12866\, United States
CATEGORIES:Events At Morrissey's
ATTACH;FMTTYPE=image/jpeg:https://theadelphihotel.com/wp-content/uploads/2025/09/244422773_946241219573541_4335458993056883143_n.jpg
END:VEVENT
END:VCALENDAR