BEGIN:VCALENDAR
VERSION:2.0
PRODID:-//The Adelphi Hotel - ECPv6.15.20//NONSGML v1.0//EN
CALSCALE:GREGORIAN
METHOD:PUBLISH
X-WR-CALNAME:The Adelphi Hotel
X-ORIGINAL-URL:https://theadelphihotel.com
X-WR-CALDESC:Events for The Adelphi Hotel
REFRESH-INTERVAL;VALUE=DURATION:PT1H
X-Robots-Tag:noindex
X-PUBLISHED-TTL:PT1H
BEGIN:VTIMEZONE
TZID:America/New_York
BEGIN:DAYLIGHT
TZOFFSETFROM:-0500
TZOFFSETTO:-0400
TZNAME:EDT
DTSTART:20250309T070000
END:DAYLIGHT
BEGIN:STANDARD
TZOFFSETFROM:-0400
TZOFFSETTO:-0500
TZNAME:EST
DTSTART:20251102T060000
END:STANDARD
BEGIN:DAYLIGHT
TZOFFSETFROM:-0500
TZOFFSETTO:-0400
TZNAME:EDT
DTSTART:20260308T070000
END:DAYLIGHT
BEGIN:STANDARD
TZOFFSETFROM:-0400
TZOFFSETTO:-0500
TZNAME:EST
DTSTART:20261101T060000
END:STANDARD
BEGIN:DAYLIGHT
TZOFFSETFROM:-0500
TZOFFSETTO:-0400
TZNAME:EDT
DTSTART:20270314T070000
END:DAYLIGHT
BEGIN:STANDARD
TZOFFSETFROM:-0400
TZOFFSETTO:-0500
TZNAME:EST
DTSTART:20271107T060000
END:STANDARD
END:VTIMEZONE
BEGIN:VEVENT
DTSTART;TZID=America/New_York:20260426T200000
DTEND;TZID=America/New_York:20260426T230000
DTSTAMP:20260425T124504
CREATED:20251202T213415Z
LAST-MODIFIED:20260130T143448Z
UID:10004688-1777233600-1777244400@theadelphihotel.com
SUMMARY:Morrissey's Industry Night
DESCRIPTION:Enjoy a weekend night cap every Sunday evening from 8-11pm. Enjoy half-off all draft beers & select cocktails\, as well as half-off all wings\, burgers & pizzas!
URL:https://theadelphihotel.com/event/morrisseys-industry-night/2026-04-26/
LOCATION:Morrissey’s Lounge & Bistro\, 365 Broadway\, Saratoga Springs\, New York\, 12866\, United States
CATEGORIES:Events At Morrissey's
ATTACH;FMTTYPE=image/jpeg:https://theadelphihotel.com/wp-content/uploads/2026/01/VAL_5675.jpg
END:VEVENT
BEGIN:VEVENT
DTSTART;TZID=America/New_York:20260503T200000
DTEND;TZID=America/New_York:20260503T230000
DTSTAMP:20260425T124504
CREATED:20251202T213415Z
LAST-MODIFIED:20260130T143448Z
UID:10004689-1777838400-1777849200@theadelphihotel.com
SUMMARY:Morrissey's Industry Night
DESCRIPTION:Enjoy a weekend night cap every Sunday evening from 8-11pm. Enjoy half-off all draft beers & select cocktails\, as well as half-off all wings\, burgers & pizzas!
URL:https://theadelphihotel.com/event/morrisseys-industry-night/2026-05-03/
LOCATION:Morrissey’s Lounge & Bistro\, 365 Broadway\, Saratoga Springs\, New York\, 12866\, United States
CATEGORIES:Events At Morrissey's
ATTACH;FMTTYPE=image/jpeg:https://theadelphihotel.com/wp-content/uploads/2026/01/VAL_5675.jpg
END:VEVENT
BEGIN:VEVENT
DTSTART;TZID=America/New_York:20260510T200000
DTEND;TZID=America/New_York:20260510T230000
DTSTAMP:20260425T124504
CREATED:20251202T213415Z
LAST-MODIFIED:20260130T143448Z
UID:10004690-1778443200-1778454000@theadelphihotel.com
SUMMARY:Morrissey's Industry Night
DESCRIPTION:Enjoy a weekend night cap every Sunday evening from 8-11pm. Enjoy half-off all draft beers & select cocktails\, as well as half-off all wings\, burgers & pizzas!
URL:https://theadelphihotel.com/event/morrisseys-industry-night/2026-05-10/
LOCATION:Morrissey’s Lounge & Bistro\, 365 Broadway\, Saratoga Springs\, New York\, 12866\, United States
CATEGORIES:Events At Morrissey's
ATTACH;FMTTYPE=image/jpeg:https://theadelphihotel.com/wp-content/uploads/2026/01/VAL_5675.jpg
END:VEVENT
BEGIN:VEVENT
DTSTART;TZID=America/New_York:20260517T200000
DTEND;TZID=America/New_York:20260517T230000
DTSTAMP:20260425T124504
CREATED:20251202T213415Z
LAST-MODIFIED:20260130T143448Z
UID:10004691-1779048000-1779058800@theadelphihotel.com
SUMMARY:Morrissey's Industry Night
DESCRIPTION:Enjoy a weekend night cap every Sunday evening from 8-11pm. Enjoy half-off all draft beers & select cocktails\, as well as half-off all wings\, burgers & pizzas!
URL:https://theadelphihotel.com/event/morrisseys-industry-night/2026-05-17/
LOCATION:Morrissey’s Lounge & Bistro\, 365 Broadway\, Saratoga Springs\, New York\, 12866\, United States
CATEGORIES:Events At Morrissey's
ATTACH;FMTTYPE=image/jpeg:https://theadelphihotel.com/wp-content/uploads/2026/01/VAL_5675.jpg
END:VEVENT
BEGIN:VEVENT
DTSTART;TZID=America/New_York:20260524T200000
DTEND;TZID=America/New_York:20260524T230000
DTSTAMP:20260425T124504
CREATED:20251202T213415Z
LAST-MODIFIED:20260130T143448Z
UID:10004692-1779652800-1779663600@theadelphihotel.com
SUMMARY:Morrissey's Industry Night
DESCRIPTION:Enjoy a weekend night cap every Sunday evening from 8-11pm. Enjoy half-off all draft beers & select cocktails\, as well as half-off all wings\, burgers & pizzas!
URL:https://theadelphihotel.com/event/morrisseys-industry-night/2026-05-24/
LOCATION:Morrissey’s Lounge & Bistro\, 365 Broadway\, Saratoga Springs\, New York\, 12866\, United States
CATEGORIES:Events At Morrissey's
ATTACH;FMTTYPE=image/jpeg:https://theadelphihotel.com/wp-content/uploads/2026/01/VAL_5675.jpg
END:VEVENT
BEGIN:VEVENT
DTSTART;TZID=America/New_York:20260531T200000
DTEND;TZID=America/New_York:20260531T230000
DTSTAMP:20260425T124504
CREATED:20251202T213415Z
LAST-MODIFIED:20260130T143448Z
UID:10004693-1780257600-1780268400@theadelphihotel.com
SUMMARY:Morrissey's Industry Night
DESCRIPTION:Enjoy a weekend night cap every Sunday evening from 8-11pm. Enjoy half-off all draft beers & select cocktails\, as well as half-off all wings\, burgers & pizzas!
URL:https://theadelphihotel.com/event/morrisseys-industry-night/2026-05-31/
LOCATION:Morrissey’s Lounge & Bistro\, 365 Broadway\, Saratoga Springs\, New York\, 12866\, United States
CATEGORIES:Events At Morrissey's
ATTACH;FMTTYPE=image/jpeg:https://theadelphihotel.com/wp-content/uploads/2026/01/VAL_5675.jpg
END:VEVENT
BEGIN:VEVENT
DTSTART;TZID=America/New_York:20260607T200000
DTEND;TZID=America/New_York:20260607T230000
DTSTAMP:20260425T124504
CREATED:20251202T213415Z
LAST-MODIFIED:20260130T143448Z
UID:10004694-1780862400-1780873200@theadelphihotel.com
SUMMARY:Morrissey's Industry Night
DESCRIPTION:Enjoy a weekend night cap every Sunday evening from 8-11pm. Enjoy half-off all draft beers & select cocktails\, as well as half-off all wings\, burgers & pizzas!
URL:https://theadelphihotel.com/event/morrisseys-industry-night/2026-06-07/
LOCATION:Morrissey’s Lounge & Bistro\, 365 Broadway\, Saratoga Springs\, New York\, 12866\, United States
CATEGORIES:Events At Morrissey's
ATTACH;FMTTYPE=image/jpeg:https://theadelphihotel.com/wp-content/uploads/2026/01/VAL_5675.jpg
END:VEVENT
BEGIN:VEVENT
DTSTART;TZID=America/New_York:20260614T200000
DTEND;TZID=America/New_York:20260614T230000
DTSTAMP:20260425T124504
CREATED:20251202T213415Z
LAST-MODIFIED:20260130T143448Z
UID:10004695-1781467200-1781478000@theadelphihotel.com
SUMMARY:Morrissey's Industry Night
DESCRIPTION:Enjoy a weekend night cap every Sunday evening from 8-11pm. Enjoy half-off all draft beers & select cocktails\, as well as half-off all wings\, burgers & pizzas!
URL:https://theadelphihotel.com/event/morrisseys-industry-night/2026-06-14/
LOCATION:Morrissey’s Lounge & Bistro\, 365 Broadway\, Saratoga Springs\, New York\, 12866\, United States
CATEGORIES:Events At Morrissey's
ATTACH;FMTTYPE=image/jpeg:https://theadelphihotel.com/wp-content/uploads/2026/01/VAL_5675.jpg
END:VEVENT
BEGIN:VEVENT
DTSTART;TZID=America/New_York:20260621T200000
DTEND;TZID=America/New_York:20260621T230000
DTSTAMP:20260425T124504
CREATED:20251202T213415Z
LAST-MODIFIED:20260130T143448Z
UID:10004696-1782072000-1782082800@theadelphihotel.com
SUMMARY:Morrissey's Industry Night
DESCRIPTION:Enjoy a weekend night cap every Sunday evening from 8-11pm. Enjoy half-off all draft beers & select cocktails\, as well as half-off all wings\, burgers & pizzas!
URL:https://theadelphihotel.com/event/morrisseys-industry-night/2026-06-21/
LOCATION:Morrissey’s Lounge & Bistro\, 365 Broadway\, Saratoga Springs\, New York\, 12866\, United States
CATEGORIES:Events At Morrissey's
ATTACH;FMTTYPE=image/jpeg:https://theadelphihotel.com/wp-content/uploads/2026/01/VAL_5675.jpg
END:VEVENT
BEGIN:VEVENT
DTSTART;TZID=America/New_York:20260628T200000
DTEND;TZID=America/New_York:20260628T230000
DTSTAMP:20260425T124504
CREATED:20251202T213415Z
LAST-MODIFIED:20260130T143448Z
UID:10004697-1782676800-1782687600@theadelphihotel.com
SUMMARY:Morrissey's Industry Night
DESCRIPTION:Enjoy a weekend night cap every Sunday evening from 8-11pm. Enjoy half-off all draft beers & select cocktails\, as well as half-off all wings\, burgers & pizzas!
URL:https://theadelphihotel.com/event/morrisseys-industry-night/2026-06-28/
LOCATION:Morrissey’s Lounge & Bistro\, 365 Broadway\, Saratoga Springs\, New York\, 12866\, United States
CATEGORIES:Events At Morrissey's
ATTACH;FMTTYPE=image/jpeg:https://theadelphihotel.com/wp-content/uploads/2026/01/VAL_5675.jpg
END:VEVENT
END:VCALENDAR