BEGIN:VCALENDAR
VERSION:2.0
PRODID:-//The Adelphi Hotel - ECPv6.15.20//NONSGML v1.0//EN
CALSCALE:GREGORIAN
METHOD:PUBLISH
X-WR-CALNAME:The Adelphi Hotel
X-ORIGINAL-URL:https://theadelphihotel.com
X-WR-CALDESC:Events for The Adelphi Hotel
REFRESH-INTERVAL;VALUE=DURATION:PT1H
X-Robots-Tag:noindex
X-PUBLISHED-TTL:PT1H
BEGIN:VTIMEZONE
TZID:America/New_York
BEGIN:DAYLIGHT
TZOFFSETFROM:-0500
TZOFFSETTO:-0400
TZNAME:EDT
DTSTART:20250309T070000
END:DAYLIGHT
BEGIN:STANDARD
TZOFFSETFROM:-0400
TZOFFSETTO:-0500
TZNAME:EST
DTSTART:20251102T060000
END:STANDARD
BEGIN:DAYLIGHT
TZOFFSETFROM:-0500
TZOFFSETTO:-0400
TZNAME:EDT
DTSTART:20260308T070000
END:DAYLIGHT
BEGIN:STANDARD
TZOFFSETFROM:-0400
TZOFFSETTO:-0500
TZNAME:EST
DTSTART:20261101T060000
END:STANDARD
BEGIN:DAYLIGHT
TZOFFSETFROM:-0500
TZOFFSETTO:-0400
TZNAME:EDT
DTSTART:20270314T070000
END:DAYLIGHT
BEGIN:STANDARD
TZOFFSETFROM:-0400
TZOFFSETTO:-0500
TZNAME:EST
DTSTART:20271107T060000
END:STANDARD
END:VTIMEZONE
BEGIN:VEVENT
DTSTART;TZID=America/New_York:20260301T100000
DTEND;TZID=America/New_York:20260301T150000
DTSTAMP:20260425T191712
CREATED:20260202T182556Z
LAST-MODIFIED:20260225T151308Z
UID:10004866-1772359200-1772377200@theadelphihotel.com
SUMMARY:The Adelphi Brunch Experience
DESCRIPTION:Every Sunday from 11am-3pm\, enjoy a thoughtfully curated two-course brunch! First course selections include Mini Pastries\, Yogurt Parfait\, or Deviled Eggs\, followed by Pancakes\, Cinnamon French Toast\, Eggs Benedict\, or Steak & Eggs. Includes one non-alcoholic beverage or Mimosa\, add a Bloody Mary for +$5. \n\n\n\n$35++ per person\, call (518) 350-7045 for reservations\, or reserve online below! \n\n\n\nPromotion ends May 17\, 2026 \n\n\n\n\nVIEW MENU\n\n\n\nRESERVATIONS
URL:https://theadelphihotel.com/event/the-adelphi-brunch-experience/2026-03-01/
LOCATION:NY
ATTACH;FMTTYPE=image/jpeg:https://theadelphihotel.com/wp-content/uploads/2020/09/brunch.jpg
END:VEVENT
BEGIN:VEVENT
DTSTART;TZID=America/New_York:20260301T170000
DTEND;TZID=America/New_York:20260301T190000
DTSTAMP:20260425T191712
CREATED:20250902T175645Z
LAST-MODIFIED:20260324T154523Z
UID:10005092-1772384400-1772391600@theadelphihotel.com
SUMMARY:Happy Hour at Morrissey's
DESCRIPTION:Join us Sunday through Thursday from 5-7pm for a two-hour window where time quite literally pays off! Begin with $5 beers\, wines\, and well cocktails at 5pm\, then ease into $6 selections at 6pm. \n\n\n\nAn after-work ritual\, done properly. Strong pours\, effortless atmosphere\, and just enough incentive to leave the office on time. \n\n\n\nPromotion ends July 2\, 2026.
URL:https://theadelphihotel.com/event/happy-hour-at-morrisseys/2026-03-01/
LOCATION:Morrissey’s Lounge & Bistro\, 365 Broadway\, Saratoga Springs\, New York\, 12866\, United States
CATEGORIES:Events At Morrissey's
ATTACH;FMTTYPE=image/jpeg:https://theadelphihotel.com/wp-content/uploads/2025/09/Adelphi-Sizzle-Edit-Rough-9-11-2023-V5-14-e1769783576140.jpeg
END:VEVENT
BEGIN:VEVENT
DTSTART;TZID=America/New_York:20260301T200000
DTEND;TZID=America/New_York:20260301T230000
DTSTAMP:20260425T191712
CREATED:20251202T213415Z
LAST-MODIFIED:20260130T143448Z
UID:10004680-1772395200-1772406000@theadelphihotel.com
SUMMARY:Morrissey's Industry Night
DESCRIPTION:Enjoy a weekend night cap every Sunday evening from 8-11pm. Enjoy half-off all draft beers & select cocktails\, as well as half-off all wings\, burgers & pizzas!
URL:https://theadelphihotel.com/event/morrisseys-industry-night/2026-03-01/
LOCATION:Morrissey’s Lounge & Bistro\, 365 Broadway\, Saratoga Springs\, New York\, 12866\, United States
CATEGORIES:Events At Morrissey's
ATTACH;FMTTYPE=image/jpeg:https://theadelphihotel.com/wp-content/uploads/2026/01/VAL_5675.jpg
END:VEVENT
BEGIN:VEVENT
DTSTART;TZID=America/New_York:20260302T110000
DTEND;TZID=America/New_York:20260302T220000
DTSTAMP:20260425T191712
CREATED:20250902T172930Z
LAST-MODIFIED:20260225T152401Z
UID:10004273-1772449200-1772488800@theadelphihotel.com
SUMMARY:Morrissey's Pizza & Pints
DESCRIPTION:Every Monday\, Morrissey’s Lounge & Bistro serves up the perfect pairing! Enjoy your choice of pizza and a draft beer for just $25 per person (tax and gratuity not included).  \n\n\n\nAvailable from 11am to 10pm\, it’s an all-day invitation to unwind\, share a bite\, and raise a glass. \n\n\n\nCall (518) 350-7945 for reservations\, or reserve online!
URL:https://theadelphihotel.com/event/pizza-pints/2026-03-02/
LOCATION:Morrissey’s Lounge & Bistro\, 365 Broadway\, Saratoga Springs\, New York\, 12866\, United States
CATEGORIES:Events At Morrissey's
ATTACH;FMTTYPE=image/jpeg:https://theadelphihotel.com/wp-content/uploads/2025/09/244422773_946241219573541_4335458993056883143_n.jpg
END:VEVENT
BEGIN:VEVENT
DTSTART;TZID=America/New_York:20260302T170000
DTEND;TZID=America/New_York:20260302T190000
DTSTAMP:20260425T191712
CREATED:20250902T175645Z
LAST-MODIFIED:20260324T154523Z
UID:10005093-1772470800-1772478000@theadelphihotel.com
SUMMARY:Happy Hour at Morrissey's
DESCRIPTION:Join us Sunday through Thursday from 5-7pm for a two-hour window where time quite literally pays off! Begin with $5 beers\, wines\, and well cocktails at 5pm\, then ease into $6 selections at 6pm. \n\n\n\nAn after-work ritual\, done properly. Strong pours\, effortless atmosphere\, and just enough incentive to leave the office on time. \n\n\n\nPromotion ends July 2\, 2026.
URL:https://theadelphihotel.com/event/happy-hour-at-morrisseys/2026-03-02/
LOCATION:Morrissey’s Lounge & Bistro\, 365 Broadway\, Saratoga Springs\, New York\, 12866\, United States
CATEGORIES:Events At Morrissey's
ATTACH;FMTTYPE=image/jpeg:https://theadelphihotel.com/wp-content/uploads/2025/09/Adelphi-Sizzle-Edit-Rough-9-11-2023-V5-14-e1769783576140.jpeg
END:VEVENT
BEGIN:VEVENT
DTSTART;TZID=America/New_York:20260302T180000
DTEND;TZID=America/New_York:20260302T210000
DTSTAMP:20260425T191712
CREATED:20260202T145606Z
LAST-MODIFIED:20260202T145607Z
UID:10004858-1772474400-1772485200@theadelphihotel.com
SUMMARY:Live Music from Jay Yager & Friends
DESCRIPTION:Join us in the Adelphi Lobby Lounge Monday evening from 6-9pm for our Live Music Series featuring Jay Yager & Friends!
URL:https://theadelphihotel.com/event/live-music-from-jay-yager-friends-4/
LOCATION:NY
ATTACH;FMTTYPE=image/jpeg:https://theadelphihotel.com/wp-content/uploads/2026/02/band-pic-display.jpg
END:VEVENT
BEGIN:VEVENT
DTSTART;TZID=America/New_York:20260303T170000
DTEND;TZID=America/New_York:20260303T183000
DTSTAMP:20260425T191712
CREATED:20260130T133854Z
LAST-MODIFIED:20260130T133856Z
UID:10004090-1772557200-1772562600@theadelphihotel.com
SUMMARY:Happy Hour at Salt & Char
DESCRIPTION:Enjoy $8 House Old Fashioned & Manhattans\, $8 Ketel One Vodka & Nolet’s Gin Martinis\, $8 Casamigos Margaritas\, and 1/2 Off Select Wines By The Glass.  \n\n\n\nAvailable every week Tuesday through Friday from 5-6:30pm at the Main Bar! Limited seating available\, first come first served.
URL:https://theadelphihotel.com/event/happy-hour-at-salt-char-2/2026-03-03/
LOCATION:Salt & Char\, 353 Broadway\, Saratoga Springs\, New York\, 12866\, United States
CATEGORIES:Events At Salt & Char
ATTACH;FMTTYPE=image/jpeg:https://theadelphihotel.com/wp-content/uploads/2025/09/Wellman-4-8-22-scaled.jpeg
END:VEVENT
BEGIN:VEVENT
DTSTART;TZID=America/New_York:20260303T170000
DTEND;TZID=America/New_York:20260303T190000
DTSTAMP:20260425T191712
CREATED:20250902T175645Z
LAST-MODIFIED:20260324T154523Z
UID:10005094-1772557200-1772564400@theadelphihotel.com
SUMMARY:Happy Hour at Morrissey's
DESCRIPTION:Join us Sunday through Thursday from 5-7pm for a two-hour window where time quite literally pays off! Begin with $5 beers\, wines\, and well cocktails at 5pm\, then ease into $6 selections at 6pm. \n\n\n\nAn after-work ritual\, done properly. Strong pours\, effortless atmosphere\, and just enough incentive to leave the office on time. \n\n\n\nPromotion ends July 2\, 2026.
URL:https://theadelphihotel.com/event/happy-hour-at-morrisseys/2026-03-03/
LOCATION:Morrissey’s Lounge & Bistro\, 365 Broadway\, Saratoga Springs\, New York\, 12866\, United States
CATEGORIES:Events At Morrissey's
ATTACH;FMTTYPE=image/jpeg:https://theadelphihotel.com/wp-content/uploads/2025/09/Adelphi-Sizzle-Edit-Rough-9-11-2023-V5-14-e1769783576140.jpeg
END:VEVENT
BEGIN:VEVENT
DTSTART;TZID=America/New_York:20260304T170000
DTEND;TZID=America/New_York:20260304T183000
DTSTAMP:20260425T191712
CREATED:20260130T133854Z
LAST-MODIFIED:20260130T133856Z
UID:10004091-1772643600-1772649000@theadelphihotel.com
SUMMARY:Happy Hour at Salt & Char
DESCRIPTION:Enjoy $8 House Old Fashioned & Manhattans\, $8 Ketel One Vodka & Nolet’s Gin Martinis\, $8 Casamigos Margaritas\, and 1/2 Off Select Wines By The Glass.  \n\n\n\nAvailable every week Tuesday through Friday from 5-6:30pm at the Main Bar! Limited seating available\, first come first served.
URL:https://theadelphihotel.com/event/happy-hour-at-salt-char-2/2026-03-04/
LOCATION:Salt & Char\, 353 Broadway\, Saratoga Springs\, New York\, 12866\, United States
CATEGORIES:Events At Salt & Char
ATTACH;FMTTYPE=image/jpeg:https://theadelphihotel.com/wp-content/uploads/2025/09/Wellman-4-8-22-scaled.jpeg
END:VEVENT
BEGIN:VEVENT
DTSTART;TZID=America/New_York:20260304T170000
DTEND;TZID=America/New_York:20260304T190000
DTSTAMP:20260425T191712
CREATED:20250902T175645Z
LAST-MODIFIED:20260324T154523Z
UID:10005095-1772643600-1772650800@theadelphihotel.com
SUMMARY:Happy Hour at Morrissey's
DESCRIPTION:Join us Sunday through Thursday from 5-7pm for a two-hour window where time quite literally pays off! Begin with $5 beers\, wines\, and well cocktails at 5pm\, then ease into $6 selections at 6pm. \n\n\n\nAn after-work ritual\, done properly. Strong pours\, effortless atmosphere\, and just enough incentive to leave the office on time. \n\n\n\nPromotion ends July 2\, 2026.
URL:https://theadelphihotel.com/event/happy-hour-at-morrisseys/2026-03-04/
LOCATION:Morrissey’s Lounge & Bistro\, 365 Broadway\, Saratoga Springs\, New York\, 12866\, United States
CATEGORIES:Events At Morrissey's
ATTACH;FMTTYPE=image/jpeg:https://theadelphihotel.com/wp-content/uploads/2025/09/Adelphi-Sizzle-Edit-Rough-9-11-2023-V5-14-e1769783576140.jpeg
END:VEVENT
BEGIN:VEVENT
DTSTART;TZID=America/New_York:20260304T170000
DTEND;TZID=America/New_York:20260304T210000
DTSTAMP:20260425T191712
CREATED:20260126T143346Z
LAST-MODIFIED:20260130T143601Z
UID:10004230-1772643600-1772658000@theadelphihotel.com
SUMMARY:Filet Night Out at Salt & Char
DESCRIPTION:Join us every Wednesday from 5-9pm for your choice of appetizer & 7oz or 9oz filet mignon at a special price! \n\n\n\n\nVIEW MENU\n\n\n\nRESERVATIONS
URL:https://theadelphihotel.com/event/filet-night-out-at-salt-char-2/2026-03-04/
LOCATION:Salt & Char\, 353 Broadway\, Saratoga Springs\, New York\, 12866\, United States
CATEGORIES:Events At Salt & Char
ATTACH;FMTTYPE=image/jpeg:https://theadelphihotel.com/wp-content/uploads/2025/02/filet-scaled.jpeg
END:VEVENT
BEGIN:VEVENT
DTSTART;TZID=America/New_York:20260305T110000
DTEND;TZID=America/New_York:20260305T213000
DTSTAMP:20260425T191712
CREATED:20260225T151841Z
LAST-MODIFIED:20260225T151841Z
UID:10004575-1772708400-1772746200@theadelphihotel.com
SUMMARY:Flex Your Mussels at Morrissey's
DESCRIPTION:Join us every Wednesday from 11am-9:30pm for Flex Your Mussels Night! Enjoy your choice of rotating weekly mussel selections\, accompanied by house-cut french fries\, and a draft beer or white wine for $25 per person. Tax & gratuity not included. \n\n\n\nBeginning September 24\, 2025\, ends July 1\, 2026
URL:https://theadelphihotel.com/event/flex-your-mussels-at-morrisseys-3/2026-03-05/
LOCATION:Morrissey’s Lounge & Bistro\, 365 Broadway\, Saratoga Springs\, New York\, 12866\, United States
CATEGORIES:Events At Morrissey's
ATTACH;FMTTYPE=image/jpeg:https://theadelphihotel.com/wp-content/uploads/2025/09/RFO-636x418-Moules-frites-68f18d2e-237f-474a-9d94-0517fb83dbdc-0-636x418-1.jpeg
END:VEVENT
BEGIN:VEVENT
DTSTART;TZID=America/New_York:20260305T170000
DTEND;TZID=America/New_York:20260305T183000
DTSTAMP:20260425T191712
CREATED:20260130T133854Z
LAST-MODIFIED:20260130T133856Z
UID:10004092-1772730000-1772735400@theadelphihotel.com
SUMMARY:Happy Hour at Salt & Char
DESCRIPTION:Enjoy $8 House Old Fashioned & Manhattans\, $8 Ketel One Vodka & Nolet’s Gin Martinis\, $8 Casamigos Margaritas\, and 1/2 Off Select Wines By The Glass.  \n\n\n\nAvailable every week Tuesday through Friday from 5-6:30pm at the Main Bar! Limited seating available\, first come first served.
URL:https://theadelphihotel.com/event/happy-hour-at-salt-char-2/2026-03-05/
LOCATION:Salt & Char\, 353 Broadway\, Saratoga Springs\, New York\, 12866\, United States
CATEGORIES:Events At Salt & Char
ATTACH;FMTTYPE=image/jpeg:https://theadelphihotel.com/wp-content/uploads/2025/09/Wellman-4-8-22-scaled.jpeg
END:VEVENT
BEGIN:VEVENT
DTSTART;TZID=America/New_York:20260305T170000
DTEND;TZID=America/New_York:20260305T190000
DTSTAMP:20260425T191712
CREATED:20250902T175645Z
LAST-MODIFIED:20260324T154523Z
UID:10005096-1772730000-1772737200@theadelphihotel.com
SUMMARY:Happy Hour at Morrissey's
DESCRIPTION:Join us Sunday through Thursday from 5-7pm for a two-hour window where time quite literally pays off! Begin with $5 beers\, wines\, and well cocktails at 5pm\, then ease into $6 selections at 6pm. \n\n\n\nAn after-work ritual\, done properly. Strong pours\, effortless atmosphere\, and just enough incentive to leave the office on time. \n\n\n\nPromotion ends July 2\, 2026.
URL:https://theadelphihotel.com/event/happy-hour-at-morrisseys/2026-03-05/
LOCATION:Morrissey’s Lounge & Bistro\, 365 Broadway\, Saratoga Springs\, New York\, 12866\, United States
CATEGORIES:Events At Morrissey's
ATTACH;FMTTYPE=image/jpeg:https://theadelphihotel.com/wp-content/uploads/2025/09/Adelphi-Sizzle-Edit-Rough-9-11-2023-V5-14-e1769783576140.jpeg
END:VEVENT
BEGIN:VEVENT
DTSTART;TZID=America/New_York:20260305T170000
DTEND;TZID=America/New_York:20260305T210000
DTSTAMP:20260425T191712
CREATED:20250902T172118Z
LAST-MODIFIED:20260130T151334Z
UID:10004187-1772730000-1772744400@theadelphihotel.com
SUMMARY:Salt & Char's Carnivore Experience
DESCRIPTION:Available every Thursday evening at Salt & Char from 5-9pm. For one or to share\, choose between the 18oz or 24oz experience\, which includes a curated selection of cuts\, two signature sides & one of our house-made sauces! \n\n\n\nCall (518) 450-7500 for reservations or reserve online below \n\n\n\n\nVIEW MENU\n\n\n\nRESERVATIONS
URL:https://theadelphihotel.com/event/the-carnivore-experience-2/2026-03-05/
LOCATION:Salt & Char\, 353 Broadway\, Saratoga Springs\, New York\, 12866\, United States
CATEGORIES:Events At Salt & Char
ATTACH;FMTTYPE=image/png:https://theadelphihotel.com/wp-content/uploads/2025/09/Screen-Shot-2019-02-16-at-12.43.32-PM.png
END:VEVENT
BEGIN:VEVENT
DTSTART;TZID=America/New_York:20260305T170000
DTEND;TZID=America/New_York:20260305T213000
DTSTAMP:20260425T191712
CREATED:20250919T124131Z
LAST-MODIFIED:20260225T162610Z
UID:10004615-1772730000-1772746200@theadelphihotel.com
SUMMARY:Morrissey's Prime Rib Night
DESCRIPTION:Every Thursday from 5-930pm\, enjoy our signature prime rib accompanied by two sides\, house-made popover\, and your choice of sauce for $45.00 per person!  \n\n\n\nTax & gratuity not included.
URL:https://theadelphihotel.com/event/morrisseys-prime-rib-night/2026-03-05/
LOCATION:Morrissey’s Lounge & Bistro\, 365 Broadway\, Saratoga Springs\, New York\, 12866\, United States
CATEGORIES:Events At Morrissey's
ATTACH;FMTTYPE=image/png:https://theadelphihotel.com/wp-content/uploads/2025/09/Firefly_Gemini-Flash_a-small-slice-of-prime-rib-accompanied-by-two-sides-a-seasonal-winter-sides-on-one-p-848177.png
END:VEVENT
BEGIN:VEVENT
DTSTART;TZID=America/New_York:20260306T170000
DTEND;TZID=America/New_York:20260306T183000
DTSTAMP:20260425T191712
CREATED:20260130T133854Z
LAST-MODIFIED:20260130T133856Z
UID:10004093-1772816400-1772821800@theadelphihotel.com
SUMMARY:Happy Hour at Salt & Char
DESCRIPTION:Enjoy $8 House Old Fashioned & Manhattans\, $8 Ketel One Vodka & Nolet’s Gin Martinis\, $8 Casamigos Margaritas\, and 1/2 Off Select Wines By The Glass.  \n\n\n\nAvailable every week Tuesday through Friday from 5-6:30pm at the Main Bar! Limited seating available\, first come first served.
URL:https://theadelphihotel.com/event/happy-hour-at-salt-char-2/2026-03-06/
LOCATION:Salt & Char\, 353 Broadway\, Saratoga Springs\, New York\, 12866\, United States
CATEGORIES:Events At Salt & Char
ATTACH;FMTTYPE=image/jpeg:https://theadelphihotel.com/wp-content/uploads/2025/09/Wellman-4-8-22-scaled.jpeg
END:VEVENT
BEGIN:VEVENT
DTSTART;TZID=America/New_York:20260306T170000
DTEND;TZID=America/New_York:20260306T213000
DTSTAMP:20260425T191712
CREATED:20260123T132657Z
LAST-MODIFIED:20260130T134257Z
UID:10004714-1772816400-1772832600@theadelphihotel.com
SUMMARY:Salt & Sea at Salt & Char
DESCRIPTION:Join us at Salt & Char every Friday evening from 5-9:30pm for Salt & Sea Friday! Enjoy your choice of appetizer paired with our exclusive catch of the day\, along with two chef-selected seasonal sides\,  and a glass of wine\, draft beer\, or prosecco for $65 per person\, plus tax & gratuity. Call (518) 450-7500 for reservations\, or reserve online below! Promotion ends July 1\, 2026 \n\n\n\n\nVIEW MENU\n\n\n\nRESERVATIONS
URL:https://theadelphihotel.com/event/salt-sea-at-salt-char/2026-03-06/
LOCATION:Salt & Char\, 353 Broadway\, Saratoga Springs\, New York\, 12866\, United States
CATEGORIES:Events At Salt & Char
ATTACH;FMTTYPE=image/jpeg:https://theadelphihotel.com/wp-content/uploads/2025/02/Salmon-4-scaled.jpg
END:VEVENT
END:VCALENDAR